BEGIN:VCALENDAR
VERSION:2.0
PRODID:-//Discover Sycamore - ECPv6.15.20//NONSGML v1.0//EN
CALSCALE:GREGORIAN
METHOD:PUBLISH
X-WR-CALNAME:Discover Sycamore
X-ORIGINAL-URL:https://discoversycamore.com
X-WR-CALDESC:Events for Discover Sycamore
REFRESH-INTERVAL;VALUE=DURATION:PT1H
X-Robots-Tag:noindex
X-PUBLISHED-TTL:PT1H
BEGIN:VTIMEZONE
TZID:America/Chicago
BEGIN:DAYLIGHT
TZOFFSETFROM:-0600
TZOFFSETTO:-0500
TZNAME:CDT
DTSTART:20250309T080000
END:DAYLIGHT
BEGIN:STANDARD
TZOFFSETFROM:-0500
TZOFFSETTO:-0600
TZNAME:CST
DTSTART:20251102T070000
END:STANDARD
BEGIN:DAYLIGHT
TZOFFSETFROM:-0600
TZOFFSETTO:-0500
TZNAME:CDT
DTSTART:20260308T080000
END:DAYLIGHT
BEGIN:STANDARD
TZOFFSETFROM:-0500
TZOFFSETTO:-0600
TZNAME:CST
DTSTART:20261101T070000
END:STANDARD
BEGIN:DAYLIGHT
TZOFFSETFROM:-0600
TZOFFSETTO:-0500
TZNAME:CDT
DTSTART:20270314T080000
END:DAYLIGHT
BEGIN:STANDARD
TZOFFSETFROM:-0500
TZOFFSETTO:-0600
TZNAME:CST
DTSTART:20271107T070000
END:STANDARD
END:VTIMEZONE
BEGIN:VEVENT
DTSTART;TZID=America/Chicago:20260912T090000
DTEND;TZID=America/Chicago:20260912T160000
DTSTAMP:20260423T144620
CREATED:20240117T184155Z
LAST-MODIFIED:20251010T161611Z
UID:10000334-1789203600-1789228800@discoversycamore.com
SUMMARY:Downtown Sycamore Chalk Walk
DESCRIPTION:Downtown Sycamore Chalk Walk\nDate: September 12Time: 10:00 AM – 4:00 PMArtist’s registration opens in July!\nJoin us for our annual Downtown Sycamore Chalk Walk\, a vibrant celebration of creativity and community! Artists ages 12 and up are invited to register for $25 through Eventbrite\, securing their spot with a sidewalk square surrounding the DeKalb County Courthouse and chalk to create their masterpieces. \nEvent Highlights: \n\nArt Competition: Artists check in at 9 a.m. and begin to transform the sidewalk into colorful canvases. Winners will be announced at 4 PM\, with top creators (voted by attendees) winning cash from over our $1\,000 cash prize pool.\nViewer Participation: Stroll through the artwork and vote for your favorite artist using colorful tokens.\nChildren’s section: Children 11 and under are able to participate for free in the KIDS ZONE! We will also be offering FREE FacePaint for all! \n\nBring your family and friends for a day filled with artistic expression\, delicious treats\, and community fun. Don’t miss this exciting new tradition in downtown Sycamore! \n\nCLICK HERE TO VIEW EVENT GUIDELINES & RULES!\n\n\nBut day of artist registration will be available at the Discover Sycamore Tent on the Courthouse Lawn from 8:30 a.m. to 10 a.m. for $40\n\nPresented in part by
URL:https://discoversycamore.com/events/downtown-sycamore-chalk-walk/
ATTACH;FMTTYPE=image/jpeg:https://discoversycamore.com/wp-content/uploads/2024/01/IMG_9352.jpeg
END:VEVENT
BEGIN:VEVENT
DTSTART;TZID=America/Chicago:20261001T080000
DTEND;TZID=America/Chicago:20261001T170000
DTSTAMP:20260423T144620
CREATED:20251001T173403Z
LAST-MODIFIED:20251010T161122Z
UID:10000534-1790841600-1790874000@discoversycamore.com
SUMMARY:Fall Vintage Shop Hop
DESCRIPTION:Hop around Sycamore this Fall enjoying the Vintage Shop Hop!
URL:https://discoversycamore.com/events/fall-vintage-shop-hop-3/
ATTACH;FMTTYPE=image/jpeg:https://discoversycamore.com/wp-content/uploads/2025/02/455258871_901690988649237_8729117142022932883_n.jpg
END:VEVENT
BEGIN:VEVENT
DTSTART;TZID=America/Chicago:20261008T160000
DTEND;TZID=America/Chicago:20261008T200000
DTSTAMP:20260423T144620
CREATED:20240802T203943Z
LAST-MODIFIED:20251016T194202Z
UID:10000425-1791475200-1791489600@discoversycamore.com
SUMMARY:Witches Night Out
DESCRIPTION:Join us my pretties for a WICKED event!\n\n\n\n\n\n\n\n\n\n\n\nGrab a few of your favorite witches for a fun shopping event in Sycamore.   \n\n\n\nYour ticket will include a  souvenir goblet\, spell card (list of businesses)\, a chance to win one of several raffle baskets\, and other fabulously wicked prizes (valued at over $600)\, and of course a bewitching evening! Visit our participating businesses\, leave your spell card at your last stop of the evening to be entered to win one of several raffle baskets\,  or two complimentary tickets to our 2026 Winter Chocolate Walk event in December\, or two complimentary tickets to our 2027 Taste of Spring event in April\, or two tickets to next year’s Witches Night Out! \n\n\n\nRegistration is from 4pm to 7 pm at Blumen Gardens (403 Edward Street\, Sycamore). There you will pick up your souvenir goblet\, spell card\, and lanyard. Stop at every location for a surprise sale\, giveaways\, raffles\, tasty treats and more! \n\n\n\nTraveling by broom is optional. \n\n\n\nTickets go on sale August 2026!\n\n\n\nDay of tickets will be available at Blumen Gardens for $20 (Witches Night out glass not guaranteed) \n\n\n\n\n\n\n\n\n\n\n\n\n\n\n\n\n\nThank you to our Sponsors!!
URL:https://discoversycamore.com/events/witches-night-out/
LOCATION:Sycamore\, Illinois
ATTACH;FMTTYPE=image/jpeg:https://discoversycamore.com/wp-content/uploads/2020/10/5_jpeg-1.jpg
END:VEVENT
BEGIN:VEVENT
DTSTART;TZID=America/Chicago:20261021T000000
DTEND;TZID=America/Chicago:20261025T235959
DTSTAMP:20260423T144620
CREATED:20201218T173310Z
LAST-MODIFIED:20251118T201328Z
UID:10000238-1792540800-1792972799@discoversycamore.com
SUMMARY:Sycamore Pumpkin Fest
DESCRIPTION:The Sycamore Pumpkin Festival takes place in downtown Sycamore\, Illinois\, with hundreds of Pumpkins on the Historic DeKalb County Courthouse Lawn\, Fall Food Vendors\, Carnivals\, Craft Shows\, and\nFREE FAMILY FUN ENTERTAINMENT!\n2025 Activities\nWednesday – October 23rd\n\nPumpkin Check-in – 12 noon to 9 pm Courthouse Lawn. Hosted by the Sycamore Lions. Online Entry Form – https://form.jotform.com/212408041839049Paper forms will be available during check in.\nOpening / Giant Cake Cutting Ceremony – 5 pm North Maple Street adjacent to the Courthouse. Presented by Hy Vee.\n\nThursday – October 24th\n\nKiwanis Prayer Breakfast – 7 to 9 am United Methodist Church\, 160 Johnson Avenue\nDowntown Trick or Treat Event 4:30 to 6:30 pm Along State St.\nPumpkin Celebrations – 4 to 7 pm All things PUMPKIN! Crafts\, games\, treats and other fun. Sycamore Public Library\, 103 E. State St.\n\nFriday – October 25th\n\nTeen Carnival (Sacramento & State) & Kiddie Carnival (Somonauk & Elm) – 3 pm to 10 pm   ($35 unlimited ride special from 4-8 pm)\nCraft Show at United Methodist Church\, Friday – 11 am to 5:30 pm\n\nSaturday – October 26th\n\nSycamore Rotary Pancake Breakfast – 7 -11 am St. Mary’s Parish Activity Center\, 312 Waterman St.\nGiant Pumpkin Trophy Presentation – Sycamore Lions’ Club\, Courthouse Lawn. 10 am\nNorth Grove One Room School House (26745 Brickville Road) –  “See It The Way It Was” Open House 10am to 2pm visit northgroveschool.org\nDog Treats\, Costumes\, T-Shirts – Tails Humane Society\, in front of Taxco. 9 am to 4 pm\nHistoric Homes Tour – 10 am to 4 pm Hosted by DeKalb County History Center Tickets: $20/person.  Visit  https://dekalbcountyhistory.org/ for more information.\nPumpkin 4-Person Golf Scramble – 11 am Sycamore Golf Course\, 940 E. State Street – Registration information – (815) 895-3884\nPumpkin Festival Marquee Entertainment North Food CourtMiss Jamie’s Farm Music Show North Food Court\, 11 amWendy & DBNorth Food Court\, 1 pmPerforming Arts Academy North Food Court\, 2:30 pm\nAutumn Craft / Treasures Market\, at the Sycamore High School Field House –  9 am –5 pm\nCraft Show – United Methodist Church – 9 am to 4 pm\nACS – Cornerstone Craft Show\, 9 am to 5 pm\nTeen Carnival (Sacramento & State) & Kiddie Carnival (Somonauk & Elm) – 12 noon to 10 pm ($30 unlimited ride special 12 noon – 4 pm and $35 unlimited ride special 5-9 pm)\nSycamore Kiwanis Pie Eating Contest – 4 pm Courthouse Lawn\n\nSunday – October 27th\n\n\nSycamore Chamber 10K Pumpkin Run – Race Starts at 8:30 am at the Sycamore Armory  Sycamore Pumpkin Run\n\n\nSycamore Pumpkin One Mile Family Fun Run – 1 Mile Fun Run starts at 8:30 a.m. in the Sycamore Park near the west entrance. For details visit  Sycamore Pumpkin Run\n\nTeen Carnival (Sacramento & State) & Kiddie Carnival (Somonauk & Elm) – 12 noon to 5 pm ($30 unlimited ride special from 12 noon to 4 pm)\nAutumn Craft / Treasures Market\, at the Sycamore High School Field House – 9 am to 2 pm\nPumpkin Festival Parade – 1 pm at Somonauk\, Elm\, California\, State & Main Streets.   Parade Map\n\nFor more info visit https://www.sycamorepumpkinfestival.com/
URL:https://discoversycamore.com/events/sycamore-pumpkin-fest/
ATTACH;FMTTYPE=image/jpeg:https://discoversycamore.com/wp-content/uploads/2017/08/FEST.jpg
END:VEVENT
BEGIN:VEVENT
DTSTART;TZID=America/Chicago:20261025T083000
DTEND;TZID=America/Chicago:20261025T113000
DTSTAMP:20260423T144620
CREATED:20200916T202820Z
LAST-MODIFIED:20251118T203709Z
UID:10000203-1792917000-1792927800@discoversycamore.com
SUMMARY:Sycamore Pumpkin 10K Run & 1 Mile Family Fun Run
DESCRIPTION:The 48th Annual Sycamore Pumpkin 10K Road Race will be held on Sunday\, October 25\, 2026! \nJOIN US THIS YEAR FOR OUR SECOND ANNUAL SYCAMORE PUMPKIN 1 MILE FUN RUN! All ages welcome and registered runners/walkers will receive an exclusive Fun Run shirt and bib. This Fun Run will start on Route 64 near the Armory and head East to the Sycamore Park entrance. It will meander through the park and end at the same finish line as the Sycamore Pumpkin Run 10K Run! \nStarting gun goes off at 8:30 a.m. sharp!!! \nThese runs are held during Sycamore Illinois’ famous Pumpkin Festival and has become a staple in the Northern Illinois race circuit. The 10k  Pumpkin Run was named a Best of Chicagoland Race by Chicago Area Runners Association. The race is also sanctioned by USA Track and Field and the course is USATF certified. Proceeds from the Sycamore Pumpkin Run help maintain our historic downtown\, create opportunities to help small businesses succeed and develop area tourism through community events. Please visit our website for complete details and information. www.pumpkinrunsycamore.com \n REGISTRATION OPENS MAY 1  FOR THE 2026 SYCAMORE PUMPKIN 10K RUN \nAND  1 MILE FAMILY FUN RUN!\n10K Race Includes: \n\nLong-sleeve dri-release race shirt\n    USATF sanctioned & certified\n    ChronoTrack Timing with Bib tags\n    Refreshments after race including\n    Ice cold beer for 21 & over\n    Course Marshals and Accurate Route Markings\n    Water stations\n    Official race results immediately\n    Traffic control\n    Medical team on hand\n\nFinish line staffed & supervised by experienced race crew \nGet Social with our Race Crew \nWebsite: https://pumpkinrunsycamore.com \nFacebook: Like us at Sycamore Pumpkin Run \nTwitter: @sycpumpkinrun \nInstagram: sycamorepumpkinrun \n\n\n\nTHANK YOU TO OUR 2025 RACE SPONSORS: \nNorthwestern Medicine\, Heartland Bank and Trust Company\, Hometown Realty\,  Xcel Orthopedic\,  Waste Management\, FNBO\, Brian Bemis Toyota of DeKalb\, Credit Union 1\, Old National Bank\, Syco Escape Rooms\, The Suter Company\, Inc.\, Ideal Industries\,   Sycamore Integrated Health\, Opportunity House Inc.\, Cub & Spanks\, Swedberg Electric Inc.\, Banner Up Signs\, OLT Marketing\, KEEEP Rentals\, American Realty\, Shaw Media   Edward Jones Timothy E Beasley\, CES\, PCC\, Vulcan Materials\, Pointer Plumbing & Sewer\, Urban Air St. Charles\,  Instashred\, Cub & Spanks\,  HyVee Sycamore\,  Swedberg Electric\, InkFli Printing\,  Rise Fitness\, Behind the Beats\,  \nTHANK YOU TO OUR COMMUNITY PARTNERS \nIllinois National Guard\, Sycamore Park District\, City of Sycamore\, Sycamore Police Department\, Sycamore Fire Department \n\n\n\n\n \nRegistration fees
URL:https://discoversycamore.com/events/sycamore-pumpkin-10k-run/
ATTACH;FMTTYPE=image/jpeg:https://discoversycamore.com/wp-content/uploads/2020/09/Be-Who-You-Want-To-Be-.jpg
ORGANIZER;CN="Sycamore Chamber of Commerce":MAILTO:office@sycamorechamber.com
END:VEVENT
END:VCALENDAR