BEGIN:VCALENDAR
VERSION:2.0
PRODID:-//Discover Sycamore - ECPv6.15.20//NONSGML v1.0//EN
CALSCALE:GREGORIAN
METHOD:PUBLISH
X-WR-CALNAME:Discover Sycamore
X-ORIGINAL-URL:https://discoversycamore.com
X-WR-CALDESC:Events for Discover Sycamore
REFRESH-INTERVAL;VALUE=DURATION:PT1H
X-Robots-Tag:noindex
X-PUBLISHED-TTL:PT1H
BEGIN:VTIMEZONE
TZID:America/Chicago
BEGIN:DAYLIGHT
TZOFFSETFROM:-0600
TZOFFSETTO:-0500
TZNAME:CDT
DTSTART:20250309T080000
END:DAYLIGHT
BEGIN:STANDARD
TZOFFSETFROM:-0500
TZOFFSETTO:-0600
TZNAME:CST
DTSTART:20251102T070000
END:STANDARD
BEGIN:DAYLIGHT
TZOFFSETFROM:-0600
TZOFFSETTO:-0500
TZNAME:CDT
DTSTART:20260308T080000
END:DAYLIGHT
BEGIN:STANDARD
TZOFFSETFROM:-0500
TZOFFSETTO:-0600
TZNAME:CST
DTSTART:20261101T070000
END:STANDARD
BEGIN:DAYLIGHT
TZOFFSETFROM:-0600
TZOFFSETTO:-0500
TZNAME:CDT
DTSTART:20270314T080000
END:DAYLIGHT
BEGIN:STANDARD
TZOFFSETFROM:-0500
TZOFFSETTO:-0600
TZNAME:CST
DTSTART:20271107T070000
END:STANDARD
END:VTIMEZONE
BEGIN:VEVENT
DTSTART;TZID=America/Chicago:20260606T090000
DTEND;TZID=America/Chicago:20260606T160000
DTSTAMP:20260423T082310
CREATED:20260421T140309Z
LAST-MODIFIED:20260421T140312Z
UID:10000556-1780736400-1780761600@discoversycamore.com
SUMMARY:Northern Illinois Art Show 2026
DESCRIPTION:The Kishwaukee Valley Art League’s 55th Annual Northern Illinois Art Show returns June 6–7 from 9:00 AM to 4:00 PM on the DeKalb County Courthouse Lawn in Sycamore. \n\n\n\nShop a wide variety of artwork and handmade crafts from talented artists\, enjoy time with friends\, and enter to win original art at the “Art of Giving” tent—all supporting local student artists and school art programs. Vendors will be judged\, with awards given to outstanding artists and crafters. \n\n\n\nMake a day of it and explore even more art at the KVAL Gallery on State.
URL:https://discoversycamore.com/events/northern-illinois-art-show-2026/2026-06-06/
END:VEVENT
BEGIN:VEVENT
DTSTART;TZID=America/Chicago:20260607T090000
DTEND;TZID=America/Chicago:20260607T160000
DTSTAMP:20260423T082310
CREATED:20260421T140309Z
LAST-MODIFIED:20260421T140312Z
UID:10000557-1780822800-1780848000@discoversycamore.com
SUMMARY:Northern Illinois Art Show 2026
DESCRIPTION:The Kishwaukee Valley Art League’s 55th Annual Northern Illinois Art Show returns June 6–7 from 9:00 AM to 4:00 PM on the DeKalb County Courthouse Lawn in Sycamore. \n\n\n\nShop a wide variety of artwork and handmade crafts from talented artists\, enjoy time with friends\, and enter to win original art at the “Art of Giving” tent—all supporting local student artists and school art programs. Vendors will be judged\, with awards given to outstanding artists and crafters. \n\n\n\nMake a day of it and explore even more art at the KVAL Gallery on State.
URL:https://discoversycamore.com/events/northern-illinois-art-show-2026/2026-06-07/
END:VEVENT
END:VCALENDAR