BEGIN:VCALENDAR
VERSION:2.0
PRODID:-//Discover Sycamore - ECPv6.15.20//NONSGML v1.0//EN
CALSCALE:GREGORIAN
METHOD:PUBLISH
X-ORIGINAL-URL:https://discoversycamore.com
X-WR-CALDESC:Events for Discover Sycamore
REFRESH-INTERVAL;VALUE=DURATION:PT1H
X-Robots-Tag:noindex
X-PUBLISHED-TTL:PT1H
BEGIN:VTIMEZONE
TZID:America/Chicago
BEGIN:DAYLIGHT
TZOFFSETFROM:-0600
TZOFFSETTO:-0500
TZNAME:CDT
DTSTART:20250309T080000
END:DAYLIGHT
BEGIN:STANDARD
TZOFFSETFROM:-0500
TZOFFSETTO:-0600
TZNAME:CST
DTSTART:20251102T070000
END:STANDARD
BEGIN:DAYLIGHT
TZOFFSETFROM:-0600
TZOFFSETTO:-0500
TZNAME:CDT
DTSTART:20260308T080000
END:DAYLIGHT
BEGIN:STANDARD
TZOFFSETFROM:-0500
TZOFFSETTO:-0600
TZNAME:CST
DTSTART:20261101T070000
END:STANDARD
BEGIN:DAYLIGHT
TZOFFSETFROM:-0600
TZOFFSETTO:-0500
TZNAME:CDT
DTSTART:20270314T080000
END:DAYLIGHT
BEGIN:STANDARD
TZOFFSETFROM:-0500
TZOFFSETTO:-0600
TZNAME:CST
DTSTART:20271107T070000
END:STANDARD
END:VTIMEZONE
BEGIN:VEVENT
DTSTART;TZID=America/Chicago:20260517T110000
DTEND;TZID=America/Chicago:20260517T120000
DTSTAMP:20260423T095058
CREATED:20260415T182734Z
LAST-MODIFIED:20260421T133942Z
UID:10000550-1779015600-1779019200@discoversycamore.com
SUMMARY:Sound Bath with Bare Soul Healing
DESCRIPTION:Noelle of Bare Soul Healing invites you to return to yourself. Slow down\, soften and reconnect with your natural rhythm and wisdom. \n\n\n\nCommunity Center Fitness Studio480 Airport Rd.\, Sycamore\, ILAges 16+ | Resident $20* | Nonresident $30*Advance registration required at the Community Center or online at sycparks.org \n\n\n\nRest in soothing frequencies from crystal singing bowls and other gentle instruments as the vibrations wash over you\, easing tension and guiding you into deep relaxation. Simply arrive\, receive\, and surrender. \n\n\n\nBring comfort items\, such as a favorite yoga mat (or use one of ours) or even a pillow and blanket for extra comfort and stillness. \n\n\n\n*Pathway Fitness Group Fitness Discount24/7 Members: 50% offBuilding-hour Pass Holders: 20% off
URL:https://discoversycamore.com/events/sound-bath/
END:VEVENT
END:VCALENDAR